BEGIN:VCALENDAR
VERSION:2.0
PRODID:-//Creation Kingdom - ECPv4.6.16//NONSGML v1.0//EN
CALSCALE:GREGORIAN
METHOD:PUBLISH
X-WR-CALNAME:Creation Kingdom
X-ORIGINAL-URL:https://creationkingdom.com
X-WR-CALDESC:Events for Creation Kingdom
BEGIN:VEVENT
DTSTART;VALUE=DATE:20261225
DTEND;VALUE=DATE:20261226
DTSTAMP:20260425T162535
CREATED:20210304T155003Z
LAST-MODIFIED:20210304T155003Z
UID:17602-1798156800-1798243199@creationkingdom.com
SUMMARY:Christmas
DESCRIPTION:
URL:https://creationkingdom.com/event/christmas/2026-12-25/
CATEGORIES:Calendar Only
END:VEVENT
END:VCALENDAR