BEGIN:VCALENDAR
VERSION:2.0
PRODID:-//Creation Kingdom - ECPv4.6.16//NONSGML v1.0//EN
CALSCALE:GREGORIAN
METHOD:PUBLISH
X-WR-CALNAME:Creation Kingdom
X-ORIGINAL-URL:https://creationkingdom.com
X-WR-CALDESC:Events for Creation Kingdom
BEGIN:VEVENT
DTSTART;VALUE=DATE:20260704
DTEND;VALUE=DATE:20260705
DTSTAMP:20260425T145325
CREATED:20210304T154242Z
LAST-MODIFIED:20210304T154242Z
UID:17398-1783123200-1783209599@creationkingdom.com
SUMMARY:Independence Day
DESCRIPTION:
URL:https://creationkingdom.com/event/independence-day/2026-07-04/
CATEGORIES:Calendar Only
END:VEVENT
END:VCALENDAR